BEGIN:VCALENDAR
VERSION:2.0
PRODID:-//REMORE　一般社団法人リモア - ECPv6.15.18//NONSGML v1.0//EN
CALSCALE:GREGORIAN
METHOD:PUBLISH
X-WR-CALNAME:REMORE　一般社団法人リモア
X-ORIGINAL-URL:https://remore-net.com
X-WR-CALDESC:REMORE　一般社団法人リモア のイベント
REFRESH-INTERVAL;VALUE=DURATION:PT1H
X-Robots-Tag:noindex
X-PUBLISHED-TTL:PT1H
BEGIN:VTIMEZONE
TZID:Asia/Tokyo
BEGIN:STANDARD
TZOFFSETFROM:+0900
TZOFFSETTO:+0900
TZNAME:JST
DTSTART:20250101T000000
END:STANDARD
END:VTIMEZONE
BEGIN:VEVENT
DTSTART;TZID=Asia/Tokyo:20260301T100000
DTEND;TZID=Asia/Tokyo:20260301T100000
DTSTAMP:20260419T221652
CREATED:20250916T013842Z
LAST-MODIFIED:20250916T013842Z
UID:1494-1772359200-1772359200@remore-net.com
SUMMARY:【大阪市住之江区】チョコレートアウトレットセール2026春
DESCRIPTION:3月1日（日）に大阪市住之江区の「すみのえ舞昆ホール」様でチョコレートセールを開催いたします！！ \nたくさんのご来場お待ちしております。
URL:https://remore-net.com/event/osaka-city-suminoe-ku-chocosale2026spring/
LOCATION:すみのえ舞昆ホール\, 大阪市住之江区御崎3-1-17\, 大阪府\, 559-8601
END:VEVENT
BEGIN:VEVENT
DTSTART;TZID=Asia/Tokyo:20260308T100000
DTEND;TZID=Asia/Tokyo:20260308T100000
DTSTAMP:20260419T221652
CREATED:20250916T014047Z
LAST-MODIFIED:20260303T013356Z
UID:1496-1772964000-1772964000@remore-net.com
SUMMARY:【堺市北区】チョコレートアウトレットセール2026春
DESCRIPTION:3月8日（日）に堺市北区の「堺市産業振興センター」様でチョコレートセールを開催いたします！！ \nたくさんのご来場お待ちしております。
URL:https://remore-net.com/event/sakai-city-kita-ku-chocosale2026spring/
LOCATION:堺市産業振興センター\, 堺市北区長曽根町183番地5\, 大阪府\, 591-8025
END:VEVENT
BEGIN:VEVENT
DTSTART;TZID=Asia/Tokyo:20260314T100000
DTEND;TZID=Asia/Tokyo:20260314T100000
DTSTAMP:20260419T221652
CREATED:20260224T014856Z
LAST-MODIFIED:20260224T014856Z
UID:1574-1773482400-1773482400@remore-net.com
SUMMARY:【堺市美原区】チョコレートアウトレットセール2026春
DESCRIPTION:3月14日（土）に堺市美原区の「堺市立みはら歴史博物館」様でチョコレートセールを開催いたします！！ \nたくさんのご来場お待ちしております。
URL:https://remore-net.com/event/sakai-city-mihara-ku-chocosale2026spring/
LOCATION:堺市立みはら歴史博物館\, 堺市美原区黒山281\, 大阪府\, 587-0002
END:VEVENT
BEGIN:VEVENT
DTSTART;TZID=Asia/Tokyo:20260315T100000
DTEND;TZID=Asia/Tokyo:20260315T100000
DTSTAMP:20260419T221652
CREATED:20260210T020306Z
LAST-MODIFIED:20260210T020726Z
UID:1569-1773568800-1773568800@remore-net.com
SUMMARY:【和泉市】チョコレートアウトレットセール2026春
DESCRIPTION:3月15日（日）に和泉市の「和泉市北部リージョンセンター」様でチョコレートセールを開催いたします！！ \nたくさんのご来場お待ちしております。
URL:https://remore-net.com/event/izumi-city-chocosale2026spring/
LOCATION:和泉市北部リージョンセンター\, 和泉市太町552番地\, 大阪府\, 594-0003
END:VEVENT
BEGIN:VEVENT
DTSTART;TZID=Asia/Tokyo:20260322T103000
DTEND;TZID=Asia/Tokyo:20260322T103000
DTSTAMP:20260419T221652
CREATED:20260210T021023Z
LAST-MODIFIED:20260210T021303Z
UID:1571-1774175400-1774175400@remore-net.com
SUMMARY:【大阪市住吉区】チョコレートアウトレットセール2026春
DESCRIPTION:3月22日（日）に大阪市住吉区の「苅田土地改良記念会館」様でチョコレートセールを開催いたします！！ \nたくさんのご来場お待ちしております。
URL:https://remore-net.com/event/osaka-city-sumiyoshi-ku-chocosale2026spring/
LOCATION:苅田土地改良記念会館\, 大阪市住吉区苅田9-5-27
END:VEVENT
BEGIN:VEVENT
DTSTART;TZID=Asia/Tokyo:20260329T100000
DTEND;TZID=Asia/Tokyo:20260329T100000
DTSTAMP:20260419T221652
CREATED:20250916T014240Z
LAST-MODIFIED:20250916T014240Z
UID:1498-1774778400-1774778400@remore-net.com
SUMMARY:【大阪狭山市】チョコレートアウトレットセール2026春
DESCRIPTION:3月29日（日）に大阪狭山市の「SAYAKAホール（大阪狭山市文化会館）」様でチョコレートセールを開催いたします！！ \nたくさんのご来場お待ちしております。
URL:https://remore-net.com/event/osakasayama-city-chocosale2026spring/
LOCATION:SAYAKAホール\, 大阪狭山市狭山1丁目875-1
END:VEVENT
END:VCALENDAR