BEGIN:VCALENDAR
VERSION:2.0
PRODID:-//REMORE　一般社団法人リモア - ECPv6.15.18//NONSGML v1.0//EN
CALSCALE:GREGORIAN
METHOD:PUBLISH
X-WR-CALNAME:REMORE　一般社団法人リモア
X-ORIGINAL-URL:https://remore-net.com
X-WR-CALDESC:REMORE　一般社団法人リモア のイベント
REFRESH-INTERVAL;VALUE=DURATION:PT1H
X-Robots-Tag:noindex
X-PUBLISHED-TTL:PT1H
BEGIN:VTIMEZONE
TZID:Asia/Tokyo
BEGIN:STANDARD
TZOFFSETFROM:+0900
TZOFFSETTO:+0900
TZNAME:JST
DTSTART:20240101T000000
END:STANDARD
END:VTIMEZONE
BEGIN:VEVENT
DTSTART;TZID=Asia/Tokyo:20251207T100000
DTEND;TZID=Asia/Tokyo:20251207T100000
DTSTAMP:20260420T032355
CREATED:20250902T032114Z
LAST-MODIFIED:20250902T032114Z
UID:1484-1765101600-1765101600@remore-net.com
SUMMARY:【和泉市】チョコレートアウトレットセール2025冬
DESCRIPTION:12月7日（日）に和泉市の「和泉市コミュニティセンター」様でチョコレートセールを開催いたします！！ \nたくさんのご来場お待ちしております。
URL:https://remore-net.com/event/izumi-city-fuchu-chocosale2025winter/
LOCATION:和泉市コミュニティセンター\, 和泉市府中町二丁目７番５号\, 大阪府\, 594－8501
END:VEVENT
BEGIN:VEVENT
DTSTART;TZID=Asia/Tokyo:20251214T100000
DTEND;TZID=Asia/Tokyo:20251214T100000
DTSTAMP:20260420T032355
CREATED:20250826T023225Z
LAST-MODIFIED:20250826T023336Z
UID:1472-1765706400-1765706400@remore-net.com
SUMMARY:【堺市西区】チョコレートアウトレットセール2025冬
DESCRIPTION:12月14日（日）に堺市西区の「浜寺船尾会館」様でチョコレートセールを開催いたします！！ \nたくさんのご来場お待ちしております。
URL:https://remore-net.com/event/sakai-city-nishi-ku-chocosale2025winter/
LOCATION:浜寺船尾会館\, 大阪府堺市西区浜寺船尾町西３丁３０
END:VEVENT
BEGIN:VEVENT
DTSTART;TZID=Asia/Tokyo:20251221T100000
DTEND;TZID=Asia/Tokyo:20251221T100000
DTSTAMP:20260420T032355
CREATED:20250826T023616Z
LAST-MODIFIED:20250826T023616Z
UID:1475-1766311200-1766311200@remore-net.com
SUMMARY:【松原市】チョコレートアウトレットセール2025冬
DESCRIPTION:いつもありがとうございます。\n12月21日（日）に松原市の「松原商工会議所」様にてチョコレートのアウトレットセールを開催いたします。 \nたくさんのご来場お待ちしております！
URL:https://remore-net.com/event/matsubara-city-chocosale2025winter/
LOCATION:松原商工会館\, 大阪府松原市阿保４丁目４−３０\, 〒580-0043\, 日本
END:VEVENT
BEGIN:VEVENT
DTSTART;TZID=Asia/Tokyo:20251228T100000
DTEND;TZID=Asia/Tokyo:20251228T100000
DTSTAMP:20260420T032355
CREATED:20250826T023849Z
LAST-MODIFIED:20250826T023849Z
UID:1477-1766916000-1766916000@remore-net.com
SUMMARY:【堺市南区】チョコレートアウトレットセール2025冬
DESCRIPTION:いつもありがとうございます。\n12月28日（日）に堺市南区の「ビッグアイ（国際障害者交流センター）」様にてチョコレートのアウトレットセールを開催いたします。 \nたくさんのご来場お待ちしております！
URL:https://remore-net.com/event/sakai-city-minami-ku-chocosale2025winter/
LOCATION:泉ヶ丘ビッグアイ
END:VEVENT
END:VCALENDAR