BEGIN:VCALENDAR
VERSION:2.0
PRODID:-//REMORE　一般社団法人リモア - ECPv6.15.18//NONSGML v1.0//EN
CALSCALE:GREGORIAN
METHOD:PUBLISH
X-WR-CALNAME:REMORE　一般社団法人リモア
X-ORIGINAL-URL:https://remore-net.com
X-WR-CALDESC:REMORE　一般社団法人リモア のイベント
REFRESH-INTERVAL;VALUE=DURATION:PT1H
X-Robots-Tag:noindex
X-PUBLISHED-TTL:PT1H
BEGIN:VTIMEZONE
TZID:Asia/Tokyo
BEGIN:STANDARD
TZOFFSETFROM:+0900
TZOFFSETTO:+0900
TZNAME:JST
DTSTART:20240101T000000
END:STANDARD
END:VTIMEZONE
BEGIN:VEVENT
DTSTART;TZID=Asia/Tokyo:20250302T100000
DTEND;TZID=Asia/Tokyo:20250302T100000
DTSTAMP:20260420T184150
CREATED:20241210T021857Z
LAST-MODIFIED:20241210T021857Z
UID:972-1740909600-1740909600@remore-net.com
SUMMARY:【大阪市大正区】チョコレートアウトレットセール2025春
DESCRIPTION:3月2日（日）に大阪市大正区の「大正会館（大正区コミュニティセンター）」様でチョコレートセールを開催いたします！！ \nたくさんのご来場お待ちしております。
URL:https://remore-net.com/event/osaka-city-taisho-ku-chocosale2025spring/
LOCATION:大正会館\, 大阪市大正区千島2-6-15\, 大阪府\, 551-0003
END:VEVENT
BEGIN:VEVENT
DTSTART;TZID=Asia/Tokyo:20250308T100000
DTEND;TZID=Asia/Tokyo:20250308T100000
DTSTAMP:20260420T184150
CREATED:20250204T022845Z
LAST-MODIFIED:20250204T022845Z
UID:992-1741428000-1741428000@remore-net.com
SUMMARY:【堺市美原区】チョコレートアウトレットセール2025春
DESCRIPTION:3月8日（土）に堺市美原区の「堺市立みはら歴史博物館」様でチョコレートセールを開催いたします！！ \nたくさんのご来場お待ちしております。
URL:https://remore-net.com/event/sakai-city-mihara-ku-chocosale2025spring/
LOCATION:堺市立みはら歴史博物館\, 堺市美原区黒山281\, 大阪府\, 587-0002
END:VEVENT
BEGIN:VEVENT
DTSTART;TZID=Asia/Tokyo:20250309T100000
DTEND;TZID=Asia/Tokyo:20250309T100000
DTSTAMP:20260420T184150
CREATED:20241210T022501Z
LAST-MODIFIED:20241210T022501Z
UID:974-1741514400-1741514400@remore-net.com
SUMMARY:【堺市北区】チョコレートアウトレットセール2025春
DESCRIPTION:3月9日（日）に堺市北区の「堺産業振興センター」様でチョコレートセールを開催いたします！！ \nたくさんのご来場お待ちしております。
URL:https://remore-net.com/event/sakai-city-kita-ku-chocosale2025spring/
LOCATION:堺市産業振興センター\, 堺市北区長曽根町183番地5\, 大阪府\, 591-8025
END:VEVENT
BEGIN:VEVENT
DTSTART;TZID=Asia/Tokyo:20250316T100000
DTEND;TZID=Asia/Tokyo:20250316T100000
DTSTAMP:20260420T184150
CREATED:20241210T023728Z
LAST-MODIFIED:20241210T023728Z
UID:977-1742119200-1742119200@remore-net.com
SUMMARY:【大阪市住之江区】チョコレートアウトレットセール2025春
DESCRIPTION:3月16日（日）に大阪市住之江区の「すみのえ舞昆ホール」様でチョコレートセールを開催いたします！！ \nたくさんのご来場お待ちしております。
URL:https://remore-net.com/event/osaka-city-suminoe-ku-chocosale2025spring/
LOCATION:すみのえ舞昆ホール\, 大阪市住之江区御崎3-1-17\, 大阪府\, 559-8601
END:VEVENT
BEGIN:VEVENT
DTSTART;TZID=Asia/Tokyo:20250323T100000
DTEND;TZID=Asia/Tokyo:20250323T100000
DTSTAMP:20260420T184150
CREATED:20241210T024450Z
LAST-MODIFIED:20241210T024450Z
UID:980-1742724000-1742724000@remore-net.com
SUMMARY:【大阪狭山市】チョコレートアウトレットセール2025春
DESCRIPTION:3月23日（日）に大阪狭山市の「SAYAKAホール（大阪狭山市文化会館）」様でチョコレートセールを開催いたします！！ \nたくさんのご来場お待ちしております。
URL:https://remore-net.com/event/osakasayama-city-chocosale2025spring/
LOCATION:SAYAKAホール\, 大阪狭山市狭山1丁目875-1
END:VEVENT
BEGIN:VEVENT
DTSTART;TZID=Asia/Tokyo:20250330T103000
DTEND;TZID=Asia/Tokyo:20250330T103000
DTSTAMP:20260420T184150
CREATED:20241210T025033Z
LAST-MODIFIED:20241210T025033Z
UID:982-1743330600-1743330600@remore-net.com
SUMMARY:【大阪市住吉区】チョコレートアウトレットセール2025春
DESCRIPTION:3月30日（日）に大阪市住吉区の「苅田土地改良記念会館」様でチョコレートセールを開催いたします！！ \nたくさんのご来場お待ちしております。
URL:https://remore-net.com/event/osaka-city-sumiyosi-ku-chocosale2025spring/
LOCATION:苅田土地改良記念会館\, 大阪市住吉区苅田9-5-27
END:VEVENT
END:VCALENDAR