BEGIN:VCALENDAR
VERSION:2.0
PRODID:-//REMORE　一般社団法人リモア - ECPv6.15.18//NONSGML v1.0//EN
CALSCALE:GREGORIAN
METHOD:PUBLISH
X-ORIGINAL-URL:https://remore-net.com
X-WR-CALDESC:REMORE　一般社団法人リモア のイベント
REFRESH-INTERVAL;VALUE=DURATION:PT1H
X-Robots-Tag:noindex
X-PUBLISHED-TTL:PT1H
BEGIN:VTIMEZONE
TZID:Asia/Tokyo
BEGIN:STANDARD
TZOFFSETFROM:+0900
TZOFFSETTO:+0900
TZNAME:JST
DTSTART:20240101T000000
END:STANDARD
END:VTIMEZONE
BEGIN:VEVENT
DTSTART;TZID=Asia/Tokyo:20250216T100000
DTEND;TZID=Asia/Tokyo:20250216T100000
DTSTAMP:20260420T201344
CREATED:20241210T015350Z
LAST-MODIFIED:20241210T020207Z
UID:962-1739700000-1739700000@remore-net.com
SUMMARY:【和泉市】チョコレートアウトレットセール2025春
DESCRIPTION:2月16日（日）に和泉市の「和泉市北部リージョンセンター」様でチョコレートセールを開催いたします！！ \nたくさんのご来場お待ちしております。
URL:https://remore-net.com/event/izumi-city-chocosale2025spring/
LOCATION:和泉市北部リージョンセンター\, 和泉市太町552番地\, 大阪府\, 594-0003
END:VEVENT
BEGIN:VEVENT
DTSTART;TZID=Asia/Tokyo:20250223T100000
DTEND;TZID=Asia/Tokyo:20250223T100000
DTSTAMP:20260420T201344
CREATED:20241210T020056Z
LAST-MODIFIED:20241210T020056Z
UID:964-1740304800-1740304800@remore-net.com
SUMMARY:【堺市中区】チョコレートアウトレットセール2025春
DESCRIPTION:2月23日（日）に堺市中区の「ソフィア堺」様でチョコレートセールを開催いたします！！ \nたくさんのご来場お待ちしております。
URL:https://remore-net.com/event/sakai-city-naka-ku-chocosale2025spring/
LOCATION:ソフィア堺\, 大阪府堺市中区深井清水町１４２６\, 堺市中区\, 大阪府
END:VEVENT
BEGIN:VEVENT
DTSTART;TZID=Asia/Tokyo:20250224T100000
DTEND;TZID=Asia/Tokyo:20250224T100000
DTSTAMP:20260420T201344
CREATED:20241210T021016Z
LAST-MODIFIED:20241210T021016Z
UID:966-1740391200-1740391200@remore-net.com
SUMMARY:【藤井寺市】チョコレートアウトレットセール2025春
DESCRIPTION:2月24日（月・祝）に藤井寺市の「藤井寺市立市民総合会館（パープルホール）」様でチョコレートセールを開催いたします！！ \nたくさんのご来場お待ちしております。
URL:https://remore-net.com/event/fujiidera-city-chocosale2025spring/
LOCATION:藤井寺市立市民総合会館（パープルホール）\, 大阪府藤井寺市北岡1丁目2-3
END:VEVENT
END:VCALENDAR