BEGIN:VCALENDAR
VERSION:2.0
PRODID:-//REMORE　一般社団法人リモア - ECPv6.15.18//NONSGML v1.0//EN
CALSCALE:GREGORIAN
METHOD:PUBLISH
X-ORIGINAL-URL:https://remore-net.com
X-WR-CALDESC:REMORE　一般社団法人リモア のイベント
REFRESH-INTERVAL;VALUE=DURATION:PT1H
X-Robots-Tag:noindex
X-PUBLISHED-TTL:PT1H
BEGIN:VTIMEZONE
TZID:Asia/Tokyo
BEGIN:STANDARD
TZOFFSETFROM:+0900
TZOFFSETTO:+0900
TZNAME:JST
DTSTART:20230101T000000
END:STANDARD
END:VTIMEZONE
BEGIN:VEVENT
DTSTART;TZID=Asia/Tokyo:20241201T100000
DTEND;TZID=Asia/Tokyo:20241201T100000
DTSTAMP:20260420T231223
CREATED:20241114T020602Z
LAST-MODIFIED:20241114T020602Z
UID:935-1733047200-1733047200@remore-net.com
SUMMARY:【松原市】チョコレートアウトレットセール2024冬
DESCRIPTION:いつもありがとうございます。\n12月1日（日）に松原市の「松原商工会議所」様にてチョコレートのアウトレットセールを開催いたします。 \nたくさんのご来場お待ちしております！
URL:https://remore-net.com/event/matsubara-city-chocosale2024winter/
LOCATION:松原商工会館\, 大阪府松原市阿保４丁目４−３０\, 〒580-0043\, 日本
END:VEVENT
BEGIN:VEVENT
DTSTART;TZID=Asia/Tokyo:20241208T100000
DTEND;TZID=Asia/Tokyo:20241208T100000
DTSTAMP:20260420T231223
CREATED:20241114T021116Z
LAST-MODIFIED:20241114T021116Z
UID:940-1733652000-1733652000@remore-net.com
SUMMARY:【堺市西区】チョコレートアウトレットセール2024冬
DESCRIPTION:12月8日（日）に堺市西区の「浜寺船尾会館」様でチョコレートセールを開催いたします！！ \nたくさんのご来場お待ちしております。
URL:https://remore-net.com/event/sakai-city-nishi-ku-chocosale2024winter/
LOCATION:浜寺船尾会館\, 大阪府堺市西区浜寺船尾町西３丁３０
END:VEVENT
BEGIN:VEVENT
DTSTART;TZID=Asia/Tokyo:20241214T100000
DTEND;TZID=Asia/Tokyo:20241214T100000
DTSTAMP:20260420T231223
CREATED:20241114T021740Z
LAST-MODIFIED:20241114T021740Z
UID:943-1734170400-1734170400@remore-net.com
SUMMARY:【富田林市】チョコレートアウトレットセール2024冬
DESCRIPTION:いつもありがとうございます。\n12月14日（土）に富田林市の「富田林市市民会館（レインボーホール）」様にてチョコレートのアウトレットセールを開催いたします。 \nたくさんのご来場お待ちしております！
URL:https://remore-net.com/event/tonndabayashi-city-chocosale2024winter/
LOCATION:富田林市市民会館（レインボーホール）\, 大阪府富田林市粟ヶ池町2969番地の5\, 日本
END:VEVENT
BEGIN:VEVENT
DTSTART;TZID=Asia/Tokyo:20241215T100000
DTEND;TZID=Asia/Tokyo:20241215T100000
DTSTAMP:20260420T231223
CREATED:20241114T022228Z
LAST-MODIFIED:20241114T022228Z
UID:946-1734256800-1734256800@remore-net.com
SUMMARY:【堺市南区】チョコレートアウトレットセール2024冬
DESCRIPTION:いつもありがとうございます。\n12月15日（日）に堺市南区の「ビッグアイ（国際障害者交流センター）」様にてチョコレートのアウトレットセールを開催いたします。 \nたくさんのご来場お待ちしております！
URL:https://remore-net.com/event/sakai-city-minami-ku-chocosale2024winter/
LOCATION:泉ヶ丘ビッグアイ
END:VEVENT
BEGIN:VEVENT
DTSTART;TZID=Asia/Tokyo:20241222T100000
DTEND;TZID=Asia/Tokyo:20241222T100000
DTSTAMP:20260420T231223
CREATED:20241114T022725Z
LAST-MODIFIED:20241114T022827Z
UID:949-1734861600-1734861600@remore-net.com
SUMMARY:【柏原市】チョコレートアウトレットセール2024冬
DESCRIPTION:12月22日（日）に柏原市の「柏原市立市民プラザ」様でチョコレートセールを開催いたします！！ \nたくさんのご来場お待ちしております。
URL:https://remore-net.com/event/kasiwara-city-chocosale2024winter/
LOCATION:柏原市立市民プラザ\, 柏原市上市1丁目2-2\, 大阪府\, 582-0007\, 日本
END:VEVENT
END:VCALENDAR