BEGIN:VCALENDAR
VERSION:2.0
PRODID:-//REMORE　一般社団法人リモア - ECPv6.15.18//NONSGML v1.0//EN
CALSCALE:GREGORIAN
METHOD:PUBLISH
X-ORIGINAL-URL:https://remore-net.com
X-WR-CALDESC:REMORE　一般社団法人リモア のイベント
REFRESH-INTERVAL;VALUE=DURATION:PT1H
X-Robots-Tag:noindex
X-PUBLISHED-TTL:PT1H
BEGIN:VTIMEZONE
TZID:Asia/Tokyo
BEGIN:STANDARD
TZOFFSETFROM:+0900
TZOFFSETTO:+0900
TZNAME:JST
DTSTART:20230101T000000
END:STANDARD
END:VTIMEZONE
BEGIN:VEVENT
DTSTART;TZID=Asia/Tokyo:20241124T100000
DTEND;TZID=Asia/Tokyo:20241124T100000
DTSTAMP:20260421T004213
CREATED:20241114T014302Z
LAST-MODIFIED:20241114T020517Z
UID:926-1732442400-1732442400@remore-net.com
SUMMARY:【泉佐野市】チョコレートアウトレットセール2024冬
DESCRIPTION:11月24日（日）に泉佐野市の「いこらも～る泉佐野」様でチョコレートセールを開催いたします！！ \n今期初のイベントとなっておりますので、今年もたくさんのご来場お待ちしております。
URL:https://remore-net.com/event/izumisano-city-chocosale2024winter/
LOCATION:いこらも～る泉佐野\, 大阪府泉佐野市下瓦屋2丁目2番77号\, 泉佐野市\, 大阪府\, 日本
END:VEVENT
END:VCALENDAR