BEGIN:VCALENDAR
VERSION:2.0
PRODID:-//REMORE　一般社団法人リモア - ECPv6.15.18//NONSGML v1.0//EN
CALSCALE:GREGORIAN
METHOD:PUBLISH
X-WR-CALNAME:REMORE　一般社団法人リモア
X-ORIGINAL-URL:https://remore-net.com
X-WR-CALDESC:REMORE　一般社団法人リモア のイベント
REFRESH-INTERVAL;VALUE=DURATION:PT1H
X-Robots-Tag:noindex
X-PUBLISHED-TTL:PT1H
BEGIN:VTIMEZONE
TZID:Asia/Tokyo
BEGIN:STANDARD
TZOFFSETFROM:+0900
TZOFFSETTO:+0900
TZNAME:JST
DTSTART:20230101T000000
END:STANDARD
END:VTIMEZONE
BEGIN:VEVENT
DTSTART;TZID=Asia/Tokyo:20240303T100000
DTEND;TZID=Asia/Tokyo:20240303T150000
DTSTAMP:20260421T183319
CREATED:20240203T014355Z
LAST-MODIFIED:20240203T015201Z
UID:808-1709460000-1709478000@remore-net.com
SUMMARY:【堺市北区】チョコレートアウトレットセール2024
DESCRIPTION:いつもありがとうございます。\n今季もなかもずの堺市産業振興センター様にて\nチョコレートセールを開催いたします。\nたくさんのご参加をお待ちしております。
URL:https://remore-net.com/event/sakai-city-kita-ku-chocolatesale2024/
LOCATION:堺市産業振興センター\, 堺市北区長曽根町183番地5\, 大阪府\, 591-8025
END:VEVENT
BEGIN:VEVENT
DTSTART;TZID=Asia/Tokyo:20240310T100000
DTEND;TZID=Asia/Tokyo:20240310T150000
DTSTAMP:20260421T183319
CREATED:20240203T015050Z
LAST-MODIFIED:20240203T015319Z
UID:810-1710064800-1710082800@remore-net.com
SUMMARY:【岸和田市】チョコレートアウトレットセール2024春
DESCRIPTION:いつもありがとうございます。\n今季岸和田市のチョコレートセールはより岸和田駅から近い泉州ビル（〒596-0054 大阪府岸和田市宮本町２７−１）での開催となりました。\nこちらでは初開催となりますが、どうぞよろしくお願い致します。
URL:https://remore-net.com/event/kishiwada-city-chocolatesale2024/
LOCATION:大阪府
END:VEVENT
BEGIN:VEVENT
DTSTART;TZID=Asia/Tokyo:20240317T100000
DTEND;TZID=Asia/Tokyo:20240317T150000
DTSTAMP:20260421T183319
CREATED:20240203T015557Z
LAST-MODIFIED:20240203T015557Z
UID:812-1710669600-1710687600@remore-net.com
SUMMARY:【大阪市住之江区】チョコレートアウトレットセール2024春
DESCRIPTION:いつもありがとうございます。\nすみのえ舞昆ホール（住之江区役所）様でチョコレートセールを開催いたします。\nたくさんのご参加をお待ちしております。
URL:https://remore-net.com/event/oosaka-city-chocolatesale2024/
LOCATION:大阪府
END:VEVENT
BEGIN:VEVENT
DTSTART;TZID=Asia/Tokyo:20240324T100000
DTEND;TZID=Asia/Tokyo:20240324T150000
DTSTAMP:20260421T183319
CREATED:20240203T015930Z
LAST-MODIFIED:20240203T020025Z
UID:814-1711274400-1711292400@remore-net.com
SUMMARY:【大阪狭山市】チョコレートアウトレットセール2024春
DESCRIPTION:いつもありがとうございます。\n今季も大阪狭山市のSAYAKAホール様にて\nチョコレートセールを開催いたします。\nたくさんのご参加をお待ちしております。
URL:https://remore-net.com/event/oosakasayama-city-chocolatesale2024/
LOCATION:大阪府
END:VEVENT
BEGIN:VEVENT
DTSTART;TZID=Asia/Tokyo:20240330T100000
DTEND;TZID=Asia/Tokyo:20240330T150000
DTSTAMP:20260421T183319
CREATED:20240306T074442Z
LAST-MODIFIED:20240306T075123Z
UID:859-1711792800-1711810800@remore-net.com
SUMMARY:【柏原市】チョコレートアウトレットセール2024春
DESCRIPTION:いつもありがとうございます。\n柏原市の柏原市立市民プラザ様にて\nチョコレートのアウトレットセールを開催いたします。\n（昨年まで開催させていただいておりましたサンヒル柏原様は現在閉館しております。） \nどうぞよろしくお願いいたします。
URL:https://remore-net.com/event/kashiwara-city-chocosale2024spring/
LOCATION:柏原市立市民プラザ\, 柏原市上市1丁目2-2\, 大阪府\, 582-0007\, 日本
END:VEVENT
BEGIN:VEVENT
DTSTART;TZID=Asia/Tokyo:20240331T103000
DTEND;TZID=Asia/Tokyo:20240331T150000
DTSTAMP:20260421T183319
CREATED:20240203T021700Z
LAST-MODIFIED:20240330T084729Z
UID:816-1711881000-1711897200@remore-net.com
SUMMARY:【大阪市住吉区】チョコレートアウトレットセール2024春
DESCRIPTION:いつもありがとうございます。\n大阪市住吉区の苅田土地改良記念会館様にて\n今季もチョコレートのアウトレットセールを開催いたします。\nたくさんのご参加をお待ちしております。
URL:https://remore-net.com/event/oosakacity-sumiyoshi-ku-chocolatesale2024/
LOCATION:苅田土地改良記念会館\, 大阪市住吉区苅田9-5-27
END:VEVENT
END:VCALENDAR