BEGIN:VCALENDAR
VERSION:2.0
PRODID:-//REMORE　一般社団法人リモア - ECPv6.15.18//NONSGML v1.0//EN
CALSCALE:GREGORIAN
METHOD:PUBLISH
X-WR-CALNAME:REMORE　一般社団法人リモア
X-ORIGINAL-URL:https://remore-net.com
X-WR-CALDESC:REMORE　一般社団法人リモア のイベント
REFRESH-INTERVAL;VALUE=DURATION:PT1H
X-Robots-Tag:noindex
X-PUBLISHED-TTL:PT1H
BEGIN:VTIMEZONE
TZID:Asia/Tokyo
BEGIN:STANDARD
TZOFFSETFROM:+0900
TZOFFSETTO:+0900
TZNAME:JST
DTSTART:20230101T000000
END:STANDARD
END:VTIMEZONE
BEGIN:VEVENT
DTSTART;TZID=Asia/Tokyo:20240211T100000
DTEND;TZID=Asia/Tokyo:20240211T150000
DTSTAMP:20260421T201140
CREATED:20240203T012323Z
LAST-MODIFIED:20240203T013233Z
UID:789-1707645600-1707663600@remore-net.com
SUMMARY:【堺市中区】チョコレートアウトレットセール2024春
DESCRIPTION:いつもご愛顧いただき、誠にありがとうございます。 \nこの度、バレンタイン前にソフィア堺様の会場で、チョコレートセールを開催させていただくことが決定いたしました。 \n多くの皆様のご参加を心よりお待ちしております。何卒よろしくお願い申し上げます。 \n＊堺エコライフポイント対象イベント
URL:https://remore-net.com/event/chocolatesale-sakaicity-nakaku0211/
LOCATION:ソフィア堺\, 大阪府堺市中区深井清水町１４２６\, 堺市中区\, 大阪府
END:VEVENT
BEGIN:VEVENT
DTSTART;TZID=Asia/Tokyo:20240217T100000
DTEND;TZID=Asia/Tokyo:20240217T150000
DTSTAMP:20260421T201140
CREATED:20240203T012946Z
LAST-MODIFIED:20240203T013131Z
UID:795-1708164000-1708182000@remore-net.com
SUMMARY:【泉佐野市】チョコレートアウトレットセール2024春
DESCRIPTION:いつもありがとうございます。 \n昨年に引き続き泉佐野市でイベントさせていただきます。 \n開催場所はいこらも～る泉佐野　いこらの森ホールです。\n大阪府泉佐野市下瓦屋2丁目2番77号 \nたくさんのご参加お待ちしております。どうぞよろしくお願い致します。
URL:https://remore-net.com/event/izumisano-city-chocolatesale2024/
LOCATION:いこらも～る泉佐野\, 大阪府泉佐野市下瓦屋2丁目2番77号\, 泉佐野市\, 大阪府\, 日本
END:VEVENT
BEGIN:VEVENT
DTSTART;TZID=Asia/Tokyo:20240218T100000
DTEND;TZID=Asia/Tokyo:20240218T150000
DTSTAMP:20260421T201140
CREATED:20240203T013509Z
LAST-MODIFIED:20240203T013509Z
UID:802-1708250400-1708268400@remore-net.com
SUMMARY:【和泉市】チョコレートアウトレットセール2024春
DESCRIPTION:いつもありがとうございます。 \n今年も和泉シティプラザ様でチョコレートセールを開催いたします。 \nたくさんのご参加お待ちしております。
URL:https://remore-net.com/event/%e3%80%90%e5%92%8c%e6%b3%89%e5%b8%82%e3%80%91%e3%83%81%e3%83%a7%e3%82%b3%e3%83%ac%e3%83%bc%e3%83%88%e3%82%a2%e3%82%a6%e3%83%88%e3%83%ac%e3%83%83%e3%83%88%e3%82%bb%e3%83%bc%e3%83%ab2024%e6%98%a5/
LOCATION:和泉シティプラザ
END:VEVENT
BEGIN:VEVENT
DTSTART;TZID=Asia/Tokyo:20240221T110000
DTEND;TZID=Asia/Tokyo:20240223T000000
DTSTAMP:20260421T201140
CREATED:20240203T014017Z
LAST-MODIFIED:20240203T014017Z
UID:805-1708513200-1708646400@remore-net.com
SUMMARY:【なんばマルイ】SDGｓイベント
DESCRIPTION:なんばマルイ様のSDGｓイベントへ当社として初めて出店させていただきます！ \n平日となりますが、たくさんのご来場お待ちしております！
URL:https://remore-net.com/event/%e3%80%90%e3%81%aa%e3%82%93%e3%81%b0%e3%83%9e%e3%83%ab%e3%82%a4%e3%80%91sdg%ef%bd%93%e3%82%a4%e3%83%99%e3%83%b3%e3%83%88/
LOCATION:大阪府
END:VEVENT
BEGIN:VEVENT
DTSTART;TZID=Asia/Tokyo:20240225T100000
DTEND;TZID=Asia/Tokyo:20240225T150000
DTSTAMP:20260421T201140
CREATED:20240203T014204Z
LAST-MODIFIED:20240203T015241Z
UID:804-1708855200-1708873200@remore-net.com
SUMMARY:【藤井寺市】チョコレートアウトレットセール2024春
DESCRIPTION:いつもありがとうございます。\n今季も藤井寺市立市民総合会館（パープルホール）様にて\nチョコレートセールを開催いたします。\nたくさんのご参加をお待ちしております。
URL:https://remore-net.com/event/fujiidera-city-chocolatesale2024/
LOCATION:藤井寺市立市民総合会館（パープルホール）\, 大阪府藤井寺市北岡1丁目2-3
END:VEVENT
END:VCALENDAR