BEGIN:VCALENDAR
VERSION:2.0
PRODID:-//REMORE　一般社団法人リモア - ECPv6.15.18//NONSGML v1.0//EN
CALSCALE:GREGORIAN
METHOD:PUBLISH
X-WR-CALNAME:REMORE　一般社団法人リモア
X-ORIGINAL-URL:https://remore-net.com
X-WR-CALDESC:REMORE　一般社団法人リモア のイベント
REFRESH-INTERVAL;VALUE=DURATION:PT1H
X-Robots-Tag:noindex
X-PUBLISHED-TTL:PT1H
BEGIN:VTIMEZONE
TZID:Asia/Tokyo
BEGIN:STANDARD
TZOFFSETFROM:+0900
TZOFFSETTO:+0900
TZNAME:JST
DTSTART:20230101T000000
END:STANDARD
END:VTIMEZONE
BEGIN:VEVENT
DTSTART;TZID=Asia/Tokyo:20240225T100000
DTEND;TZID=Asia/Tokyo:20240225T150000
DTSTAMP:20260423T144843
CREATED:20240203T014204Z
LAST-MODIFIED:20240203T015241Z
UID:804-1708855200-1708873200@remore-net.com
SUMMARY:【藤井寺市】チョコレートアウトレットセール2024春
DESCRIPTION:いつもありがとうございます。\n今季も藤井寺市立市民総合会館（パープルホール）様にて\nチョコレートセールを開催いたします。\nたくさんのご参加をお待ちしております。
URL:https://remore-net.com/event/fujiidera-city-chocolatesale2024/
LOCATION:藤井寺市立市民総合会館（パープルホール）\, 大阪府藤井寺市北岡1丁目2-3
END:VEVENT
END:VCALENDAR