BEGIN:VCALENDAR
VERSION:2.0
PRODID:-//REMORE　一般社団法人リモア - ECPv6.15.18//NONSGML v1.0//EN
CALSCALE:GREGORIAN
METHOD:PUBLISH
X-WR-CALNAME:REMORE　一般社団法人リモア
X-ORIGINAL-URL:https://remore-net.com
X-WR-CALDESC:REMORE　一般社団法人リモア のイベント
REFRESH-INTERVAL;VALUE=DURATION:PT1H
X-Robots-Tag:noindex
X-PUBLISHED-TTL:PT1H
BEGIN:VTIMEZONE
TZID:Asia/Tokyo
BEGIN:STANDARD
TZOFFSETFROM:+0900
TZOFFSETTO:+0900
TZNAME:JST
DTSTART:20230101T000000
END:STANDARD
END:VTIMEZONE
BEGIN:VEVENT
DTSTART;TZID=Asia/Tokyo:20241214T100000
DTEND;TZID=Asia/Tokyo:20241214T100000
DTSTAMP:20260420T233452
CREATED:20241114T021740Z
LAST-MODIFIED:20241114T021740Z
UID:943-1734170400-1734170400@remore-net.com
SUMMARY:【富田林市】チョコレートアウトレットセール2024冬
DESCRIPTION:いつもありがとうございます。\n12月14日（土）に富田林市の「富田林市市民会館（レインボーホール）」様にてチョコレートのアウトレットセールを開催いたします。 \nたくさんのご来場お待ちしております！
URL:https://remore-net.com/event/tonndabayashi-city-chocosale2024winter/
LOCATION:富田林市市民会館（レインボーホール）\, 大阪府富田林市粟ヶ池町2969番地の5\, 日本
END:VEVENT
END:VCALENDAR