BEGIN:VCALENDAR
VERSION:2.0
PRODID:-//REMORE　一般社団法人リモア - ECPv6.15.18//NONSGML v1.0//EN
CALSCALE:GREGORIAN
METHOD:PUBLISH
X-WR-CALNAME:REMORE　一般社団法人リモア
X-ORIGINAL-URL:https://remore-net.com
X-WR-CALDESC:REMORE　一般社団法人リモア のイベント
REFRESH-INTERVAL;VALUE=DURATION:PT1H
X-Robots-Tag:noindex
X-PUBLISHED-TTL:PT1H
BEGIN:VTIMEZONE
TZID:Asia/Tokyo
BEGIN:STANDARD
TZOFFSETFROM:+0900
TZOFFSETTO:+0900
TZNAME:JST
DTSTART:20250101T000000
END:STANDARD
END:VTIMEZONE
BEGIN:VEVENT
DTSTART;TZID=Asia/Tokyo:20260329T100000
DTEND;TZID=Asia/Tokyo:20260329T100000
DTSTAMP:20260421T220929
CREATED:20250916T014240Z
LAST-MODIFIED:20250916T014240Z
UID:1498-1774778400-1774778400@remore-net.com
SUMMARY:【大阪狭山市】チョコレートアウトレットセール2026春
DESCRIPTION:3月29日（日）に大阪狭山市の「SAYAKAホール（大阪狭山市文化会館）」様でチョコレートセールを開催いたします！！ \nたくさんのご来場お待ちしております。
URL:https://remore-net.com/event/osakasayama-city-chocosale2026spring/
LOCATION:SAYAKAホール\, 大阪狭山市狭山1丁目875-1
END:VEVENT
END:VCALENDAR