BEGIN:VCALENDAR
VERSION:2.0
PRODID:-//REMORE　一般社団法人リモア - ECPv6.15.18//NONSGML v1.0//EN
CALSCALE:GREGORIAN
METHOD:PUBLISH
X-ORIGINAL-URL:https://remore-net.com
X-WR-CALDESC:REMORE　一般社団法人リモア のイベント
REFRESH-INTERVAL;VALUE=DURATION:PT1H
X-Robots-Tag:noindex
X-PUBLISHED-TTL:PT1H
BEGIN:VTIMEZONE
TZID:Asia/Tokyo
BEGIN:STANDARD
TZOFFSETFROM:+0900
TZOFFSETTO:+0900
TZNAME:JST
DTSTART:20250101T000000
END:STANDARD
END:VTIMEZONE
BEGIN:VEVENT
DTSTART;TZID=Asia/Tokyo:20260222T100000
DTEND;TZID=Asia/Tokyo:20260222T100000
DTSTAMP:20260419T235405
CREATED:20250916T013237Z
LAST-MODIFIED:20250916T013317Z
UID:1490-1771754400-1771754400@remore-net.com
SUMMARY:【大阪市大正区】チョコレートアウトレットセール2026春
DESCRIPTION:2月22日（日）に大阪市大正区の「大正会館（大正区コミュニティセンター）」様でチョコレートセールを開催いたします！！ \nたくさんのご来場お待ちしております。
URL:https://remore-net.com/event/osaka-city-taisho-ku-chocosale2026spring/
LOCATION:大正会館\, 大阪市大正区千島2-6-15\, 大阪府\, 551-0003
END:VEVENT
END:VCALENDAR