BEGIN:VCALENDAR
VERSION:2.0
PRODID:-//REMORE　一般社団法人リモア - ECPv6.15.18//NONSGML v1.0//EN
CALSCALE:GREGORIAN
METHOD:PUBLISH
X-WR-CALNAME:REMORE　一般社団法人リモア
X-ORIGINAL-URL:https://remore-net.com
X-WR-CALDESC:REMORE　一般社団法人リモア のイベント
REFRESH-INTERVAL;VALUE=DURATION:PT1H
X-Robots-Tag:noindex
X-PUBLISHED-TTL:PT1H
BEGIN:VTIMEZONE
TZID:Asia/Tokyo
BEGIN:STANDARD
TZOFFSETFROM:+0900
TZOFFSETTO:+0900
TZNAME:JST
DTSTART:20240101T000000
END:STANDARD
END:VTIMEZONE
BEGIN:VEVENT
DTSTART;TZID=Asia/Tokyo:20250308T100000
DTEND;TZID=Asia/Tokyo:20250308T100000
DTSTAMP:20260420T170215
CREATED:20250204T022845Z
LAST-MODIFIED:20250204T022845Z
UID:992-1741428000-1741428000@remore-net.com
SUMMARY:【堺市美原区】チョコレートアウトレットセール2025春
DESCRIPTION:3月8日（土）に堺市美原区の「堺市立みはら歴史博物館」様でチョコレートセールを開催いたします！！ \nたくさんのご来場お待ちしております。
URL:https://remore-net.com/event/sakai-city-mihara-ku-chocosale2025spring/
LOCATION:堺市立みはら歴史博物館\, 堺市美原区黒山281\, 大阪府\, 587-0002
END:VEVENT
BEGIN:VEVENT
DTSTART;TZID=Asia/Tokyo:20250309T100000
DTEND;TZID=Asia/Tokyo:20250309T100000
DTSTAMP:20260420T170215
CREATED:20241210T022501Z
LAST-MODIFIED:20241210T022501Z
UID:974-1741514400-1741514400@remore-net.com
SUMMARY:【堺市北区】チョコレートアウトレットセール2025春
DESCRIPTION:3月9日（日）に堺市北区の「堺産業振興センター」様でチョコレートセールを開催いたします！！ \nたくさんのご来場お待ちしております。
URL:https://remore-net.com/event/sakai-city-kita-ku-chocosale2025spring/
LOCATION:堺市産業振興センター\, 堺市北区長曽根町183番地5\, 大阪府\, 591-8025
END:VEVENT
END:VCALENDAR