BEGIN:VCALENDAR
VERSION:2.0
PRODID:-//REMORE　一般社団法人リモア - ECPv6.15.18//NONSGML v1.0//EN
CALSCALE:GREGORIAN
METHOD:PUBLISH
X-WR-CALNAME:REMORE　一般社団法人リモア
X-ORIGINAL-URL:https://remore-net.com
X-WR-CALDESC:REMORE　一般社団法人リモア のイベント
REFRESH-INTERVAL;VALUE=DURATION:PT1H
X-Robots-Tag:noindex
X-PUBLISHED-TTL:PT1H
BEGIN:VTIMEZONE
TZID:Asia/Tokyo
BEGIN:STANDARD
TZOFFSETFROM:+0900
TZOFFSETTO:+0900
TZNAME:JST
DTSTART:20230101T000000
END:STANDARD
END:VTIMEZONE
BEGIN:VEVENT
DTSTART;TZID=Asia/Tokyo:20240211T100000
DTEND;TZID=Asia/Tokyo:20240211T150000
DTSTAMP:20260421T143546
CREATED:20240203T012323Z
LAST-MODIFIED:20240203T013233Z
UID:789-1707645600-1707663600@remore-net.com
SUMMARY:【堺市中区】チョコレートアウトレットセール2024春
DESCRIPTION:いつもご愛顧いただき、誠にありがとうございます。 \nこの度、バレンタイン前にソフィア堺様の会場で、チョコレートセールを開催させていただくことが決定いたしました。 \n多くの皆様のご参加を心よりお待ちしております。何卒よろしくお願い申し上げます。 \n＊堺エコライフポイント対象イベント
URL:https://remore-net.com/event/chocolatesale-sakaicity-nakaku0211/
LOCATION:ソフィア堺\, 大阪府堺市中区深井清水町１４２６\, 堺市中区\, 大阪府
END:VEVENT
END:VCALENDAR