BEGIN:VCALENDAR
VERSION:2.0
PRODID:-//REMORE　一般社団法人リモア - ECPv6.15.18//NONSGML v1.0//EN
CALSCALE:GREGORIAN
METHOD:PUBLISH
X-ORIGINAL-URL:https://remore-net.com
X-WR-CALDESC:REMORE　一般社団法人リモア のイベント
REFRESH-INTERVAL;VALUE=DURATION:PT1H
X-Robots-Tag:noindex
X-PUBLISHED-TTL:PT1H
BEGIN:VTIMEZONE
TZID:Asia/Tokyo
BEGIN:STANDARD
TZOFFSETFROM:+0900
TZOFFSETTO:+0900
TZNAME:JST
DTSTART:20240101T000000
END:STANDARD
END:VTIMEZONE
BEGIN:VEVENT
DTSTART;TZID=Asia/Tokyo:20250216T100000
DTEND;TZID=Asia/Tokyo:20250216T100000
DTSTAMP:20260422T100752
CREATED:20241210T015350Z
LAST-MODIFIED:20241210T020207Z
UID:962-1739700000-1739700000@remore-net.com
SUMMARY:【和泉市】チョコレートアウトレットセール2025春
DESCRIPTION:2月16日（日）に和泉市の「和泉市北部リージョンセンター」様でチョコレートセールを開催いたします！！ \nたくさんのご来場お待ちしております。
URL:https://remore-net.com/event/izumi-city-chocosale2025spring/
LOCATION:和泉市北部リージョンセンター\, 和泉市太町552番地\, 大阪府\, 594-0003
END:VEVENT
END:VCALENDAR